BEGIN:VCALENDAR
VERSION:2.0
PRODID:-//Innovation Generation - ECPv5.3.2.1//NONSGML v1.0//EN
CALSCALE:GREGORIAN
METHOD:PUBLISH
X-WR-CALNAME:Innovation Generation
X-ORIGINAL-URL:https://www.innovationgeneration.com.au
X-WR-CALDESC:Events for Innovation Generation
BEGIN:VTIMEZONE
TZID:Australia/Sydney
BEGIN:STANDARD
TZOFFSETFROM:+1100
TZOFFSETTO:+1000
TZNAME:AEST
DTSTART:20210403T160000
END:STANDARD
BEGIN:DAYLIGHT
TZOFFSETFROM:+1000
TZOFFSETTO:+1100
TZNAME:AEDT
DTSTART:20211002T160000
END:DAYLIGHT
END:VTIMEZONE
BEGIN:VEVENT
DTSTART;TZID=Australia/Sydney:20210309T130000
DTEND;TZID=Australia/Sydney:20210309T143000
DTSTAMP:20210301T152341
CREATED:20210217T224648Z
LAST-MODIFIED:20210219T001912Z
UID:9986-1615294800-1615300200@www.innovationgeneration.com.au
SUMMARY:Inclusive Leadership - helping your farm business thrive
DESCRIPTION:[vc_row type=”full_width_background” full_screen_row_position=”middle” column_margin=”default” column_direction=”default” column_direction_tablet=”default” column_direction_phone=”default” scene_position=”center” text_color=”light” text_align=”left” row_border_radius=”none” row_border_radius_applies=”bg” overlay_strength=”0.3″ gradient_direction=”left_to_right” shape_divider_position=”bottom” bg_image_animation=”none” shape_type=””][vc_column column_padding=”no-extra-padding” column_padding_tablet=”inherit” column_padding_phone=”inherit” column_padding_position=”all” background_color_opacity=”1″ background_hover_color_opacity=”1″ column_shadow=”none” column_border_radius=”none” column_link_target=”_self” gradient_direction=”left_to_right” overlay_strength=”0.3″ width=”1/1″ tablet_width_inherit=”default” tablet_text_alignment=”default” phone_text_alignment=”default” column_border_width=”none” column_border_style=”solid” bg_image_animation=”none”][vc_row_inner equal_height=”yes” content_placement=”middle” column_margin=”default” column_direction=”default” column_direction_tablet=”default” column_direction_phone=”default” text_align=”left”][vc_column_inner column_padding=”padding-7-percent” column_padding_tablet=”inherit” column_padding_phone=”inherit” column_padding_position=”all” background_color=”#f47f1f” background_color_opacity=”1″ background_hover_color_opacity=”1″ column_shadow=”none” column_border_radius=”none” column_link_target=”_self” gradient_direction=”left_to_right” overlay_strength=”0.3″ width=”1/2″ tablet_width_inherit=”small_desktop” column_border_width=”none” column_border_style=”solid” bg_image_animation=”none” enable_animation=”true” animation=”flip-in-vertical”][vc_custom_heading text=”Inclusive Leadership – helping your farm business thrive” font_container=”tag:h4|font_size:38|text_align:left|color:%23ffffff|line_height:46px” use_theme_fonts=”yes” css=”.vc_custom_1613601781397{margin-top: -15px !important;}”][divider line_type=”No Line” custom_height=”30″][vc_column_text]\nAnna Carter\,\nDiversity Partners[/vc_column_text][/vc_column_inner][vc_column_inner column_padding=”padding-7-percent” column_padding_tablet=”inherit” column_padding_phone=”inherit” column_padding_position=”all” background_color_opacity=”1″ background_hover_color_opacity=”1″ background_image=”10004″ background_image_position=”center top” enable_bg_scale=”true” column_shadow=”none” column_border_radius=”none” column_link_target=”_self” gradient_direction=”left_to_right” overlay_strength=”0.3″ width=”1/2″ tablet_width_inherit=”small_desktop” column_border_width=”none” column_border_style=”solid” bg_image_animation=”none” enable_animation=”true” animation=”flip-in-vertical” delay=”100″][divider line_type=”No Line” custom_height=”150″][/vc_column_inner][/vc_row_inner][vc_row_inner equal_height=”yes” content_placement=”middle” column_margin=”default” column_direction=”default” column_direction_tablet=”default” column_direction_phone=”default” text_align=”left”][vc_column_inner column_padding=”padding-7-percent” column_padding_tablet=”inherit” column_padding_phone=”inherit” column_padding_position=”all” background_color_opacity=”1″ background_hover_color_opacity=”1″ background_image=”5686″ background_image_position=”center center” enable_bg_scale=”true” column_shadow=”none” column_border_radius=”none” column_link_target=”_self” gradient_direction=”left_to_right” overlay_strength=”0.3″ width=”1/2″ tablet_width_inherit=”default” column_border_width=”none” column_border_style=”solid” bg_image_animation=”none” enable_animation=”true” animation=”flip-in-vertical”][divider line_type=”No Line” custom_height=”150″][/vc_column_inner][vc_column_inner column_padding=”padding-7-percent” column_padding_tablet=”inherit” column_padding_phone=”inherit” column_padding_position=”all” background_color=”#ffffff” background_color_opacity=”1″ background_hover_color_opacity=”1″ font_color=”#000000″ column_shadow=”none” column_border_radius=”none” column_link_target=”_self” gradient_direction=”left_to_right” overlay_strength=”0.3″ width=”1/2″ tablet_width_inherit=”default” column_border_width=”none” column_border_style=”solid” bg_image_animation=”none” enable_animation=”true” animation=”flip-in-vertical” delay=”100″][vc_column_text]This session will help growers understand the importance of diversity when it comes to running a farm business.[/vc_column_text][/vc_column_inner][/vc_row_inner][/vc_column][/vc_row]
URL:https://www.innovationgeneration.com.au/event/inclusive-leadership-helping-your-farm-business-thrive/
CATEGORIES:Innovation Generation Masterclass,Zoom Webinar
ATTACH;FMTTYPE=image/png:https://www.innovationgeneration.com.au/wordpress/wp-content/uploads/2021/02/15565_GG_IGMasterclassSeries_Twitter_Tile_1200x675px_v2-2.png
END:VEVENT
END:VCALENDAR